BEGIN:VCALENDAR
VERSION:2.0
CALSCALE:GREGORIAN
PRODID:-//Diputació de Barcelona//DibaCMS//EN
BEGIN:VEVENT
UID:2832
DTSTAMP:20260422T191913
DTSTART:20160313T000000
DTEND:20160313T000000
SUMMARY:TRAU amb Guillem Albà
LOCATION:
METHOD:PUBLISH
X-WR-CALNAME:calldetenes@calldetenes.cat
X-WR-TIMEZONE:Europe/Madrid
DESCRIPTION:   Diumenge 13 de març a les 18h  A partir de 10 €  Entrades anticipades i més informació a www.teatrecalldetenes.cat   
URI:https://www.calldetenes.cat/lactualitat/agenda/trau-amb-guillem-alba.html
CLASS:PUBLIC
END:VEVENT
END:VCALENDAR
