BEGIN:VCALENDAR
VERSION:2.0
CALSCALE:GREGORIAN
PRODID:-//Diputació de Barcelona//DibaCMS//EN
BEGIN:VEVENT
UID:2831
DTSTAMP:20260422T215444
DTSTART:20160227T000000
DTEND:20160227T000000
SUMMARY:PETITS MONSTRES de La Villarroel i Pequeños Monstruos
LOCATION:
METHOD:PUBLISH
X-WR-CALNAME:calldetenes@calldetenes.cat
X-WR-TIMEZONE:Europe/Madrid
DESCRIPTION: Dissabte 27 de febrer a les 21.30h  A partir de 15 €  Entrades anticipades i més informació a www.teatrecalldetenes.cat   
URI:https://www.calldetenes.cat/lactualitat/agenda/petits-monstres-de-la-villarroel-i-pequenos-monstruos.html
CLASS:PUBLIC
END:VEVENT
END:VCALENDAR
