BEGIN:VCALENDAR
VERSION:2.0
CALSCALE:GREGORIAN
PRODID:-//Diputació de Barcelona//DibaCMS//EN
BEGIN:VEVENT
UID:2829
DTSTAMP:20260422T214002
DTSTART:20160226T000000
DTEND:20160311T000000
SUMMARY:Audiovisuals CEC 2016
LOCATION:
METHOD:PUBLISH
X-WR-CALNAME:calldetenes@calldetenes.cat
X-WR-TIMEZONE:Europe/Madrid
DESCRIPTION: 
URI:https://www.calldetenes.cat/lactualitat/agenda/audiovisuals-cec-2016.html
CLASS:PUBLIC
END:VEVENT
END:VCALENDAR
