BEGIN:VCALENDAR
VERSION:2.0
CALSCALE:GREGORIAN
PRODID:-//Diputació de Barcelona//DibaCMS//EN
BEGIN:VEVENT
UID:2827
DTSTAMP:20260423T135132
DTSTART:20160601T000000
DTEND:20160531T000000
SUMMARY:Programació Auditori Teatre de Calldetenes Gener-juny 2016
LOCATION:
METHOD:PUBLISH
X-WR-CALNAME:calldetenes@calldetenes.cat
X-WR-TIMEZONE:Europe/Madrid
DESCRIPTION:    PETITS MONSTRES de La Villarroel i Pequeños Monstruos Dissabte 27 d'abril a les 21.30h A partir de 15 €  TRAU amb Guillem Albà Diumenge 13 de març a les 18h A partir de 10 €  iTIME amb en Peyu Divendres 8 d’abril a les 21.30h A partir de 10€  CONCERT DE PRIMAVERA Diumenge 24 d’abril a les 18h A partir de 5€  QUEDA INAUGURADO ESTE PANTANO! amb NÀIADES Cor de Noies i CORCIA Teatre Dissabte 30 d’abril a les 21.30h A partir de 12€  MOLIÊRE LA BALLA Dissabte 7 de maig a les 21.30h A partir de 15€  REAGGE PER XICS amb The Penguins Band Diumenge 29 de maig a les 18h A partir de 5€
URI:https://www.calldetenes.cat/lactualitat/agenda/programacio-auditori-teatre-de-calldetenes-gener-juny-2016.html
CLASS:PUBLIC
END:VEVENT
END:VCALENDAR
