BEGIN:VCALENDAR
VERSION:2.0
CALSCALE:GREGORIAN
PRODID:-//Diputació de Barcelona//DibaCMS//EN
BEGIN:VEVENT
UID:2826
DTSTAMP:20260423T002251
DTSTART:20160121T000000
DTEND:20160207T000000
SUMMARY:BUSNIT: et tornem a casa des del Carnaval de Terra Endins
LOCATION:
METHOD:PUBLISH
X-WR-CALNAME:calldetenes@calldetenes.cat
X-WR-TIMEZONE:Europe/Madrid
DESCRIPTION: 
URI:https://www.calldetenes.cat/lactualitat/agenda/2826-busnit-et-tornem-a-casa-des-del-carnaval-de-terra-endins.html
CLASS:PUBLIC
END:VEVENT
END:VCALENDAR
