BEGIN:VCALENDAR
VERSION:2.0
CALSCALE:GREGORIAN
PRODID:-//Diputació de Barcelona//DibaCMS//EN
BEGIN:VEVENT
UID:2824
DTSTAMP:20260422T230231
DTSTART:20151227T000000
DTEND:20151227T000000
SUMMARY:II Tirada Cap d’any: bitlles catalanes
LOCATION:
METHOD:PUBLISH
X-WR-CALNAME:calldetenes@calldetenes.cat
X-WR-TIMEZONE:Europe/Madrid
DESCRIPTION: II Tirada Cap d’any: bitlles catalanes  Diumenge 27 de desembre a les 8.30h (esmorzar) i a les 10.30h (partida)  
URI:https://www.calldetenes.cat/lactualitat/agenda/ii-tirada-cap-dany-bitlles-catalanes.html
CLASS:PUBLIC
END:VEVENT
END:VCALENDAR
