BEGIN:VCALENDAR
VERSION:2.0
CALSCALE:GREGORIAN
PRODID:-//Diputació de Barcelona//DibaCMS//EN
BEGIN:VEVENT
UID:2823
DTSTAMP:20260422T231045
DTSTART:20151129T000000
DTEND:20151129T000000
SUMMARY:XXI Caminada Guilleries – Calldetenes
LOCATION:
METHOD:PUBLISH
X-WR-CALNAME:calldetenes@calldetenes.cat
X-WR-TIMEZONE:Europe/Madrid
DESCRIPTION: 29 de novembre de 2015 a les 7 del matí  Travessa amb llibre de ruta que ens porta des del cor de les Guilleries fins a casa.  Sortida: Autocar: Calldetenes, Plaça Onze de Setembre Arribada: Calldetenes.  Hi ha control d'arribada al Bar de l'Auditori.  Avituallaments: sense avituallaments.  Cal ser autosuficient en menjar i beure  Preu: 7 € i inclou autocar  Organitza: Club Excursionista Calldetenes  Més informació: http://cecalldetenes.cat/_guilleries.html
URI:https://www.calldetenes.cat/lactualitat/agenda/xxi-caminada-guilleries--calldetenes.html
CLASS:PUBLIC
END:VEVENT
END:VCALENDAR
