BEGIN:VCALENDAR
VERSION:2.0
CALSCALE:GREGORIAN
PRODID:-//Diputació de Barcelona//DibaCMS//EN
BEGIN:VEVENT
UID:2822
DTSTAMP:20260423T030919
DTSTART:20151114T000000
DTEND:20151122T000000
SUMMARY:SC15 – Setmana de la Ciència 2015
LOCATION:
METHOD:PUBLISH
X-WR-CALNAME:calldetenes@calldetenes.cat
X-WR-TIMEZONE:Europe/Madrid
DESCRIPTION: Del 14 al 22 de novembre  Organitza: Ajuntament de Calldetenes i de Sant Julià de Vilatorta  Col·labora: Grup C3, MeteoVilatorta i Escola Sant Marc de Calldetenes  
URI:https://www.calldetenes.cat/lactualitat/agenda/sc15--setmana-de-la-ciencia-2015.html
CLASS:PUBLIC
END:VEVENT
END:VCALENDAR
