BEGIN:VCALENDAR
VERSION:2.0
CALSCALE:GREGORIAN
PRODID:-//Diputació de Barcelona//DibaCMS//EN
BEGIN:VEVENT
UID:2821
DTSTAMP:20260423T014753
DTSTART:20151108T000000
DTEND:20151108T000000
SUMMARY:Aplec de Sant Martí de Riudeperes
LOCATION:
METHOD:PUBLISH
X-WR-CALNAME:calldetenes@calldetenes.cat
X-WR-TIMEZONE:Europe/Madrid
DESCRIPTION: 
URI:https://www.calldetenes.cat/lactualitat/agenda/2821-aplec-de-sant-marti-de-riudeperes.html
CLASS:PUBLIC
END:VEVENT
END:VCALENDAR
