BEGIN:VCALENDAR
VERSION:2.0
CALSCALE:GREGORIAN
PRODID:-//Diputació de Barcelona//DibaCMS//EN
BEGIN:VEVENT
UID:2820
DTSTAMP:20260423T181025
DTSTART:20151101T000000
DTEND:20151101T000000
SUMMARY:61è CROS DE CALLDETENES i 7ª LLIGA COMARCAL DE CROS ESCOLAR DE CALLDETENES
LOCATION:
METHOD:PUBLISH
X-WR-CALNAME:calldetenes@calldetenes.cat
X-WR-TIMEZONE:Europe/Madrid
DESCRIPTION: Diumenge 1 de noviembre  Primera cursa: a les 10 h  Zona esportiva de Calldetenes
URI:https://www.calldetenes.cat/lactualitat/agenda/61e-cros-de-calldetenes-i-7a-lliga-comarcal-de-cros-escolar-de-calldetenes.html
CLASS:PUBLIC
END:VEVENT
END:VCALENDAR
