BEGIN:VCALENDAR
VERSION:2.0
CALSCALE:GREGORIAN
PRODID:-//Diputació de Barcelona//DibaCMS//EN
BEGIN:VEVENT
UID:2819
DTSTAMP:20260422T232052
DTSTART:20151025T000000
DTEND:20151129T000000
SUMMARY:CALLTITELLESDETENES, XXIII Festival de Titelles de Calldetenes
LOCATION:
METHOD:PUBLISH
X-WR-CALNAME:calldetenes@calldetenes.cat
X-WR-TIMEZONE:Europe/Madrid
DESCRIPTION:   Diumenges del 25 d’octubre al 29 de novembre Una sola funció a les 17.30h (excepte la darrera que serà doble a les 16.30h i a les 18h)  Diumenge 25 d’octubre: La Mongetera màgica, Festuc Teatre  Diumenge 1 de novembre: L’amic, Pengim-Penjam  Diumenge 8 de novembre: El bosc com balla, Cia. Cal Teatre  Diumenge 15 de novembre: Cotó, Txo Titelles  Diumenge 22 de novembre: En Jan tot li fan, Estaquirot Teatre  Diumenge 29 de novembre: En Patufet, Galiot Teatre (16.30h i a les 18h)
URI:https://www.calldetenes.cat/lactualitat/agenda/calltitellesdetenes-xxiii-festival-de-titelles-de-calldetenes.html
CLASS:PUBLIC
END:VEVENT
END:VCALENDAR
