BEGIN:VCALENDAR
VERSION:2.0
CALSCALE:GREGORIAN
PRODID:-//Diputació de Barcelona//DibaCMS//EN
BEGIN:VEVENT
UID:2818
DTSTAMP:20260423T105521
DTSTART:20151019T000000
DTEND:20151218T000000
SUMMARY:Tallers i monogràfics de tardor
LOCATION:
METHOD:PUBLISH
X-WR-CALNAME:calldetenes@calldetenes.cat
X-WR-TIMEZONE:Europe/Madrid
DESCRIPTION:   Del 19 d’octubre al 18 de desembre de 2015  Inscripcions a Tallers Alquimia fins el 9 d’octubre     
URI:https://www.calldetenes.cat/lactualitat/agenda/tallers-i-monografics-de-tardor.html
CLASS:PUBLIC
END:VEVENT
END:VCALENDAR
