BEGIN:VCALENDAR
VERSION:2.0
CALSCALE:GREGORIAN
PRODID:-//Diputació de Barcelona//DibaCMS//EN
BEGIN:VEVENT
UID:2817
DTSTAMP:20260422T233109
DTSTART:20150910T000000
DTEND:20151114T000000
SUMMARY:FESTA MAJOR DE CALLDETENES 2015
LOCATION:
METHOD:PUBLISH
X-WR-CALNAME:calldetenes@calldetenes.cat
X-WR-TIMEZONE:Europe/Madrid
DESCRIPTION:  
URI:https://www.calldetenes.cat/lactualitat/agenda/festa-major-de-calldetenes-2015.html
CLASS:PUBLIC
END:VEVENT
END:VCALENDAR
