BEGIN:VCALENDAR
VERSION:2.0
CALSCALE:GREGORIAN
PRODID:-//Diputació de Barcelona//DibaCMS//EN
BEGIN:VEVENT
UID:2816
DTSTAMP:20260423T061455
DTSTART:20151014T000000
DTEND:20151014T000000
SUMMARY:Presentació dels Espais de Debat Educatiu
LOCATION:
METHOD:PUBLISH
X-WR-CALNAME:calldetenes@calldetenes.cat
X-WR-TIMEZONE:Europe/Madrid
DESCRIPTION: 
URI:https://www.calldetenes.cat/lactualitat/agenda/presentacio-dels-espais-de-debat-educatiu.html
CLASS:PUBLIC
END:VEVENT
END:VCALENDAR
