BEGIN:VCALENDAR
VERSION:2.0
CALSCALE:GREGORIAN
PRODID:-//Diputació de Barcelona//DibaCMS//EN
BEGIN:VEVENT
UID:2815
DTSTAMP:20260423T010633
DTSTART:20150816T000000
DTEND:20150816T000000
SUMMARY:FESTA DEL BATRE
LOCATION:
METHOD:PUBLISH
X-WR-CALNAME:calldetenes@calldetenes.cat
X-WR-TIMEZONE:Europe/Madrid
DESCRIPTION: FESTA DEL BATRE  Diumenge 16 d’agost  Al Molí de la Calvaria. Tot el dia.  A partir de les 9 del matí: parar la batuda i batre a pota. Fer el paller.  A partir de les 3 de la tarda: carregar a bast un animal, ventar i posar en marxa el molí hidràulic.  Durant tot el dia: activitats complementàries.  Ben aviat, penjarem el programa complet.  
URI:https://www.calldetenes.cat/lactualitat/agenda/2815-festa-del-batre.html
CLASS:PUBLIC
END:VEVENT
END:VCALENDAR
