BEGIN:VCALENDAR
VERSION:2.0
CALSCALE:GREGORIAN
PRODID:-//Diputació de Barcelona//DibaCMS//EN
BEGIN:VEVENT
UID:2814
DTSTAMP:20260423T020553
DTSTART:20150720T000000
DTEND:20150726T000000
SUMMARY:33 Anys de les festes del barri de Darrere els Horts. Calldetenes 2015
LOCATION:
METHOD:PUBLISH
X-WR-CALNAME:calldetenes@calldetenes.cat
X-WR-TIMEZONE:Europe/Madrid
DESCRIPTION: 

Dilluns 20 de juliol

21 h: cursa de cargols

 

Dimarts 21 de juliol

21 h: cursa de patinets i cursa de motos de 0-4 anys (cal portar casc i protecció)

 

Dimecres 22 de juliol

21 h: cambrers i cursa de la patata

 

Dijous 23 de juliol

21 h: joc del mocador i de les cadires

 

Divendres 24 de juliol

21.30 h: IV Gran Quina Barri Show, amb actuacions diverses entre quines.

Si algú vol fer alguna actuació, que truqui al 638 232 261 o es dirigeixi a El Clip.

 

Dissabte 25 de juliol

21 h: Botifarrada popular amb l’estrena del primer gran concurs de Karaoke, amb interessants premis! 

Preu del tiquet: 5 € a la venda als forns de pa i a El Clip fins el 24 de juliol

Sorteig del pernil del Barri.

 

Diumenge 26 de juliol

10 h: xocolatada

11 h: animació infantil amb Gil i Ratataplam

 

 

*Els que vulguin seure, que es portin cadira.

*Cal portar-se cadira per jugar a la quina.

*Tots els premis dels jocs es donaran a l’acabar.

*La Comissió es reserva el dret de canviar el programa.

 

 









 


 








 

URI:https://www.calldetenes.cat/lactualitat/agenda/33-anys-de-les-festes-del-barri-de-darrere-els-horts-calldetenes-2015.html
CLASS:PUBLIC
END:VEVENT
END:VCALENDAR
