BEGIN:VCALENDAR
VERSION:2.0
CALSCALE:GREGORIAN
PRODID:-//Diputació de Barcelona//DibaCMS//EN
BEGIN:VEVENT
UID:2813
DTSTAMP:20260423T044035
DTSTART:20150705T000000
DTEND:20150705T000000
SUMMARY:Taller del segar a Taradell
LOCATION:
METHOD:PUBLISH
X-WR-CALNAME:calldetenes@calldetenes.cat
X-WR-TIMEZONE:Europe/Madrid
DESCRIPTION: El cicle del blat es tancarà el proper 16 d'agost a la Festa del Batre de Calldetenes.     
URI:https://www.calldetenes.cat/lactualitat/agenda/taller-del-segar-a-taradell.html
CLASS:PUBLIC
END:VEVENT
END:VCALENDAR
