BEGIN:VCALENDAR
VERSION:2.0
CALSCALE:GREGORIAN
PRODID:-//Diputació de Barcelona//DibaCMS//EN
BEGIN:VEVENT
UID:2812
DTSTAMP:20260423T181542
DTSTART:20150622T000000
DTEND:20150707T000000
SUMMARY:Exposició "Catalunya - Euskadi"
LOCATION:
METHOD:PUBLISH
X-WR-CALNAME:calldetenes@calldetenes.cat
X-WR-TIMEZONE:Europe/Madrid
DESCRIPTION: de Leandre Teulats    Exposició de pintures sobre cartró    Al vestíbul de l'ajuntament de Calldetenes - del 22 de juny al 7 de juliol  Obert en horari d'oficina: dilluns de 9 a 14:30 i de 15:30 a 17:30 i de dimarts a divendres: de 9 a 14:30  
URI:https://www.calldetenes.cat/lactualitat/agenda/exposicio-catalunya-euskadi.html
CLASS:PUBLIC
END:VEVENT
END:VCALENDAR
