BEGIN:VCALENDAR
VERSION:2.0
CALSCALE:GREGORIAN
PRODID:-//Diputació de Barcelona//DibaCMS//EN
BEGIN:VEVENT
UID:2811
DTSTAMP:20260423T061200
DTSTART:20150712T000000
DTEND:20150712T000000
SUMMARY:Mulla't per l'esclerosi
LOCATION:
METHOD:PUBLISH
X-WR-CALNAME:calldetenes@calldetenes.cat
X-WR-TIMEZONE:Europe/Madrid
DESCRIPTION: El proper 12 de juliol es celebra el Mulla’t per l’esclerosi múltiple, una cita que any rere any ens recorda que a Catalunya hi ha 7.000 persones que pateixen aquesta malaltia. El Mulla’t s’organitza a més de 600 piscines arreu del país.    Tota la informació al web de Mulla't.    
URI:https://www.calldetenes.cat/lactualitat/agenda/mullat-per-lesclerosi.html
CLASS:PUBLIC
END:VEVENT
END:VCALENDAR
