BEGIN:VCALENDAR
VERSION:2.0
CALSCALE:GREGORIAN
PRODID:-//Diputació de Barcelona//DibaCMS//EN
BEGIN:VEVENT
UID:2810
DTSTAMP:20260423T092405
DTSTART:20150622T000000
DTEND:20150622T000000
SUMMARY:PRESENTACIÓ DEL NOU CLUB ESPORTIU CALLDETENES
LOCATION:
METHOD:PUBLISH
X-WR-CALNAME:calldetenes@calldetenes.cat
X-WR-TIMEZONE:Europe/Madrid
DESCRIPTION:    El proper dilluns 22 de juny a les 9 del vespre al vestíbul de l’Ajuntament, es farà una reunió informativa i oberta a tothom on es presentarà el nou club i on s’exposarà la situació actual del futbol.      Pares i mares dels infants que practiquen aquest esport a Calldetenes, han portat a terme una “recollida de firmes a favor d’un nou i únic club, amb el nom del nostre poble, per a solventar i començar de nou la gestió de la zona esportiva”. En total s’han recollit 474 signatures, només a Calldetenes. Amb aquesta iniciativa s’ha fet entrega de les signatures recollides a l’alcalde de Calldetenes, que s’ha compromès a donar tot el suport i a posar totes les facilitats possibles per tal de “partir de zero i començar de net amb un sol club al poble” que porti a una solució definitiva.      
URI:https://www.calldetenes.cat/lactualitat/agenda/presentacio-del-nou-club-esportiu-calldetenes.html
CLASS:PUBLIC
END:VEVENT
END:VCALENDAR
