BEGIN:VCALENDAR
VERSION:2.0
CALSCALE:GREGORIAN
PRODID:-//Diputació de Barcelona//DibaCMS//EN
BEGIN:VEVENT
UID:2809
DTSTAMP:20260423T043958
DTSTART:20150611T000000
DTEND:20150730T000000
SUMMARY:Caminades a la fresca amb el CEC
LOCATION:
METHOD:PUBLISH
X-WR-CALNAME:calldetenes@calldetenes.cat
X-WR-TIMEZONE:Europe/Madrid
DESCRIPTION: CAMINADES A LA FRESCA AMB EL CLUB EXCURSIONISTA CALLDETENES (els dijous de l'11 de juny al 30 de juliol a les 20.15h a la plaça Onze de Setembre).       
URI:https://www.calldetenes.cat/lactualitat/agenda/caminades-a-la-fresca-amb-el-cec.html
CLASS:PUBLIC
END:VEVENT
END:VCALENDAR
