BEGIN:VCALENDAR
VERSION:2.0
CALSCALE:GREGORIAN
PRODID:-//Diputació de Barcelona//DibaCMS//EN
BEGIN:VEVENT
UID:2808
DTSTAMP:20260423T035146
DTSTART:20150605T000000
DTEND:20150605T000000
SUMMARY:"Hi ha un inspector" teatre solidari a benefici de Kaliu Nepal per ajudar a reconstruir Nepal
LOCATION:
METHOD:PUBLISH
X-WR-CALNAME:calldetenes@calldetenes.cat
X-WR-TIMEZONE:Europe/Madrid
DESCRIPTION:   Amb l’Espardenya Teatre  Divendres 5 de juny a les 21 h a l’Auditori Teatre Calldetenes  Preu: 7 € (venda d’entrades a taquilla una hora abans, i el 31 de maig d’11h a 13h al Bar del Teatre)      
URI:https://www.calldetenes.cat/lactualitat/agenda/hi-ha-un-inspector-teatre-solidari-a-benefici-de-kaliu-nepal-per-ajudar-a-reconstruir-nepal.html
CLASS:PUBLIC
END:VEVENT
END:VCALENDAR
