BEGIN:VCALENDAR
VERSION:2.0
CALSCALE:GREGORIAN
PRODID:-//Diputació de Barcelona//DibaCMS//EN
BEGIN:VEVENT
UID:2807
DTSTAMP:20260423T034754
DTSTART:20150529T000000
DTEND:20150529T000000
SUMMARY:Obertura de les piscines
LOCATION:
METHOD:PUBLISH
X-WR-CALNAME:calldetenes@calldetenes.cat
X-WR-TIMEZONE:Europe/Madrid
DESCRIPTION:   Més informació a www.piscinescalldetenes.cat
URI:https://www.calldetenes.cat/lactualitat/agenda/obertura-de-les-piscines.html
CLASS:PUBLIC
END:VEVENT
END:VCALENDAR
