BEGIN:VCALENDAR
VERSION:2.0
CALSCALE:GREGORIAN
PRODID:-//Diputació de Barcelona//DibaCMS//EN
BEGIN:VEVENT
UID:2806
DTSTAMP:20260423T034931
DTSTART:20150521T000000
DTEND:20150521T000000
SUMMARY:Presentació del Casal d'Estiu 2015
LOCATION:
METHOD:PUBLISH
X-WR-CALNAME:calldetenes@calldetenes.cat
X-WR-TIMEZONE:Europe/Madrid
DESCRIPTION:   20.30h al vestíbul de l’ajuntament de Calldetenes  S’explicarà el tema del casal d’estiu d’aquest any, quotes, calendari... i es resoldran dubtes.
URI:https://www.calldetenes.cat/lactualitat/agenda/presentacio-del-casal-destiu-2015.html
CLASS:PUBLIC
END:VEVENT
END:VCALENDAR
