BEGIN:VCALENDAR
VERSION:2.0
CALSCALE:GREGORIAN
PRODID:-//Diputació de Barcelona//DibaCMS//EN
BEGIN:VEVENT
UID:2805
DTSTAMP:20260422T231145
DTSTART:20150926T000000
DTEND:20150926T000000
SUMMARY:Fira de la Mercè, la fira del comerç i la bona teca
LOCATION:
METHOD:PUBLISH
X-WR-CALNAME:calldetenes@calldetenes.cat
X-WR-TIMEZONE:Europe/Madrid
DESCRIPTION: 
URI:https://www.calldetenes.cat/lactualitat/agenda/fira-de-la-merce-la-fira-del-comerc-i-la-bona-teca.html
CLASS:PUBLIC
END:VEVENT
END:VCALENDAR
