BEGIN:VCALENDAR
VERSION:2.0
CALSCALE:GREGORIAN
PRODID:-//Diputació de Barcelona//DibaCMS//EN
BEGIN:VEVENT
UID:2804
DTSTAMP:20260423T134945
DTSTART:20150503T000000
DTEND:20150503T000000
SUMMARY:50è HOMENATGE A LA VELLESA
LOCATION:
METHOD:PUBLISH
X-WR-CALNAME:calldetenes@calldetenes.cat
X-WR-TIMEZONE:Europe/Madrid
DESCRIPTION: 50è HOMENATGE A LA VELLESA   Diumenge 3 de maig de 2015     A les 11:30: Missa cantada i presentació d’ofrenes. A la sortida, els homenatjats seran obsequiats amb rams.    Seguidament: actuació sorpresa a l’Auditori - Teatre de Calldetenes    Dinar de germanor    
URI:https://www.calldetenes.cat/lactualitat/agenda/50e-homenatge-a-la-vellesa.html
CLASS:PUBLIC
END:VEVENT
END:VCALENDAR
