BEGIN:VCALENDAR
VERSION:2.0
CALSCALE:GREGORIAN
PRODID:-//Diputació de Barcelona//DibaCMS//EN
BEGIN:VEVENT
UID:2803
DTSTAMP:20260423T052630
DTSTART:20150517T000000
DTEND:20150517T000000
SUMMARY:Teatre: "10 contes i una rondaia", a càrrec de la companyia Trencaclosques de Calldetenes
LOCATION:
METHOD:PUBLISH
X-WR-CALNAME:calldetenes@calldetenes.cat
X-WR-TIMEZONE:Europe/Madrid
DESCRIPTION: 10 contes i una rondaia del Trencaclosques el 17 de maig.        
URI:https://www.calldetenes.cat/lactualitat/agenda/teatre-10-contes-i-una-rondaia-a-carrec-de-la-companyia-trencaclosques-de-calldetenes.html
CLASS:PUBLIC
END:VEVENT
END:VCALENDAR
