BEGIN:VCALENDAR
VERSION:2.0
CALSCALE:GREGORIAN
PRODID:-//Diputació de Barcelona//DibaCMS//EN
BEGIN:VEVENT
UID:2801
DTSTAMP:20260423T035222
DTSTART:20150608T000000
DTEND:20150608T000000
SUMMARY:Xerrada #treballar durant l'estiu, dins el projecte d'inserció laboral del Punt Jove
LOCATION:
METHOD:PUBLISH
X-WR-CALNAME:calldetenes@calldetenes.cat
X-WR-TIMEZONE:Europe/Madrid
DESCRIPTION: 
URI:https://www.calldetenes.cat/lactualitat/agenda/xerrada-treballar-durant-lestiu-dins-el-projecte-dinsercio-laboral-del-punt-jove.html
CLASS:PUBLIC
END:VEVENT
END:VCALENDAR
