BEGIN:VCALENDAR
VERSION:2.0
CALSCALE:GREGORIAN
PRODID:-//Diputació de Barcelona//DibaCMS//EN
BEGIN:VEVENT
UID:2800
DTSTAMP:20260423T034850
DTSTART:20150529T000000
DTEND:20150531T000000
SUMMARY:I Mostra de Curtmetratges de la Gent Gran de Catalunya
LOCATION:
METHOD:PUBLISH
X-WR-CALNAME:calldetenes@calldetenes.cat
X-WR-TIMEZONE:Europe/Madrid
DESCRIPTION:         “I Mostra de Curtmetratges de la Gent Gran de Catalunya” del 29 al 31 de maig.      Diversos són els canvis socials econòmics i culturals que transformen les societats occidentals actuals. Un d’ells és el creixent augment del nombre de persones que anomenem col•lectiu de la gent gran.     La I Mostra de Curtmetratges de la Gent Gran de Catalunya a Calldetenes és una invitació a apropar-se als protagonistes d’aquest canvi. Ells són el canvi, es mouen pensen i viuen d’una manera diferent. Fa anys era impensable que un grup de dones i homes que passessin de 80 anys poguessin fer o protagonitzar una pel•lícula. Avui no. Avui ho fan. A Calldetenes podreu veure-ho els dies 29, 30 i 31 de maig.     Amb curtmetratges realitzats pels col·lectius de: Santa Eugènia de Berga, Vilanova de Sau, Vilassar de Dalt, Centelles, Premià de Mar, Vilassar de Mar, Arbúcies, Tona, Hostalets de Balenyà, Santa Perpètua de Moguda, Barberà del Vallès, La Garriga, Montmeló i Calldetenes.    PROGRAMA (podeu descarregar-lo en els documents adjunts):  divendres 29 de maig    18.00 h  Inauguració a càrrec de l’alcalde de Calldetenes Marc Verdaguer, i taula rodona Cinema i gent gran” amb Pepe de Jiménez.  Santa Eugènia de Berga: Classe d’història  Vilanova de Sau: Passejar, gaudir i viure sa  Calldetenes: Bandolers de Calldetenes    dissabte 30 de maig    11.00 h  Taula rodona “Memòria i identitat” amb Daniel Inglada.  Vilassar de Dalt: Maria Stuart i Elisabet  Centelles: A Centelles, bruixes totes elles  Premià de Mar: Putes gallines    16.30 h  Arbúcies: Arbúcies mon amour  Vilassar de Mar: Cartes d’amèrica    diumenge 31 de maig    11.00 h  Taula rodona “Fer-nos grans activament” amb Eva Capdevila.  Tona: 30 anys, moltes vides  Barberà del Vallès: Por favor que vengan ya los extraterrestres  Montmeló: No som res    16.30 h  Santa Perpètua de la Moguda: Remeis i milagros  Hostalets de Balenyà: El congrés  La Garriga: Xarop amb galetes    Venda d’entrades a taquilla:  divendres 29: 5 €  dissabte 30: 10 €  diumenge 31: 10 €  
URI:https://www.calldetenes.cat/lactualitat/agenda/i-mostra-de-curtmetratges-de-la-gent-gran-de-catalunya.html
CLASS:PUBLIC
END:VEVENT
END:VCALENDAR
