BEGIN:VCALENDAR
VERSION:2.0
CALSCALE:GREGORIAN
PRODID:-//Diputació de Barcelona//DibaCMS//EN
BEGIN:VEVENT
UID:2799
DTSTAMP:20260423T035355
DTSTART:20150516T000000
DTEND:20150516T000000
SUMMARY:Teatre: “Hi ha un inspector” de l'Espardenya Teatre
LOCATION:
METHOD:PUBLISH
X-WR-CALNAME:calldetenes@calldetenes.cat
X-WR-TIMEZONE:Europe/Madrid
DESCRIPTION: 
URI:https://www.calldetenes.cat/lactualitat/agenda/teatre-hi-ha-un-inspector-de-lespardenya-teatre.html
CLASS:PUBLIC
END:VEVENT
END:VCALENDAR
