BEGIN:VCALENDAR
VERSION:2.0
CALSCALE:GREGORIAN
PRODID:-//Diputació de Barcelona//DibaCMS//EN
BEGIN:VEVENT
UID:2798
DTSTAMP:20260423T060928
DTSTART:20150429T000000
DTEND:20150422T000000
SUMMARY:Reunió informativa sobre les modificacions de la nova variant de Calldetenes
LOCATION:
METHOD:PUBLISH
X-WR-CALNAME:calldetenes@calldetenes.cat
X-WR-TIMEZONE:Europe/Madrid
DESCRIPTION: El 29 d’abril a 2/4 de 9 del vespre es farà una nova reunió per presentar les modificacions al projecte de la variant. És oberta a tothom! La presentació anirà a càrrec de la Sra. Montserrat Tordera, coordinadora en matèria d'Infraestructures, Urbanisme i Habitatge de la Diputació de Barcelona; i del Sr. Vicenç Izquierdo, gerent de Serveis d'Infraestructures Viàries i Mobilitat de la Diputació de Barcelona.    Al final de la reunió, l’Associació de Comerciants i Serveis de Calldetenes, informarà de les novetats que s’estan preparant.  
URI:https://www.calldetenes.cat/lactualitat/agenda/reunio-informativa-sobre-les-modificacions-de-la-nova-variant-de-calldetenes.html
CLASS:PUBLIC
END:VEVENT
END:VCALENDAR
