BEGIN:VCALENDAR
VERSION:2.0
CALSCALE:GREGORIAN
PRODID:-//Diputació de Barcelona//DibaCMS//EN
BEGIN:VEVENT
UID:2797
DTSTAMP:20260423T153231
DTSTART:20150424T000000
DTEND:20150426T000000
SUMMARY:2es Jornades de l'Aeròdrom de Vilatorta
LOCATION:
METHOD:PUBLISH
X-WR-CALNAME:calldetenes@calldetenes.cat
X-WR-TIMEZONE:Europe/Madrid
DESCRIPTION:      Des de Meteovilatorta, entitat de Sant Julià de Vilatorta dedicada a promoure activitats científiques i culturals, ens plau convidar-vos a les II Jornades de l’Aeròdrom Vilatorta. Hem preparat aquestes II Jornades conjuntament amb els ajuntaments de Sant Julià de Vilatorta, de Calldetenes i de Santa Eugènia de Berga per tal d’ajudar a donar a conèixer una part de la nostra història i, per tant, de la nostra memòria històrica que volem que sigui coneguda i recordada per les noves generacions.    CALLDETENES - Divendres, 24 d’abril a 2/4 de 9 del vespre  A l'Auditori Teatre de Calldetenes  - PRESENTACIÓ DE LES JORNADES. Parlaments de les autoritats  - CONFERÈNCIA A CÀRREC DE LA HISTORIADORA ASSUMPTA MONTELLÀ: 115 DIES A L’ EBRE.   - Presentació de la visita als Espais de la Batalla de l’Ebre    SANTA EUGÈNIA DE BERGA - Dissabte, 25 d’abril a les 7 de la tarda  Sala de plens de l’Ajuntament de Santa Eugènia de Berga. (Plaça major, 1)   - CONFERÈNCIA A CÀRREC DE RO­SER REIXACH (ANTROPÒLOGA) I XAVIER CATEURA (HISTORIADOR): LA REPRESIÓ FRANQUISTA.  - Presentació de la visita als Espais de la Batalla de l’Ebre.     SANT JULIÀ DE VILATORTA - Diumenge, 26 d’abril   - a 2/4 de 9 del matí - VISITA COMENTADA A L’AERÒ­DROM DE VILATORTA A CÀRREC DE L’HISTORIADOR DAVID GESALÍ. (cal portar calçat adequat per realitzar un recorregut de 9,5km). Punt d’Informació del espai Natural Guilleries Savassona a les Set Fonts.  - a les 7 de la tarda - Saló Catalunya de Sant Julià de Vilatorta. (Plaça Catalunya, s/n)  - Projecció del documental VUELO A SHANGRI-LA.  - Presentació de la visita als Espais de la Batalla de l’Ebre.  - CLOENDA DE LES JORNADES Acomiadaments i agraïments       
URI:https://www.calldetenes.cat/lactualitat/agenda/2es-jornades-de-laerodrom-de-vilatorta.html
CLASS:PUBLIC
END:VEVENT
END:VCALENDAR
