BEGIN:VCALENDAR
VERSION:2.0
CALSCALE:GREGORIAN
PRODID:-//Diputació de Barcelona//DibaCMS//EN
BEGIN:VEVENT
UID:2796
DTSTAMP:20260423T193610
DTSTART:20150426T000000
DTEND:20150426T000000
SUMMARY:Aplec de Sant Marc
LOCATION:
METHOD:PUBLISH
X-WR-CALNAME:calldetenes@calldetenes.cat
X-WR-TIMEZONE:Europe/Madrid
DESCRIPTION: Aplec de Sant Marc: diumenge 26 d’abril  A les 12 del migdia: Missa i seguidament Rifa de pernils  A les 4 de la tarda: Rifa de pernils  A 2/4 de 5: Audició de sardanes a càrrec de la Cobla Canigó de Torelló. A la mitja part, Rifa del xai.  En acabar l’audició de sardanes, es farà un final de festa en commemoració al Joan de Sant Marc. Serà amenitzat pel grup Homus Serrassencis de Torrelló, que faran un ball de pagès.    
URI:https://www.calldetenes.cat/lactualitat/agenda/2796-aplec-de-sant-marc.html
CLASS:PUBLIC
END:VEVENT
END:VCALENDAR
