BEGIN:VCALENDAR
VERSION:2.0
CALSCALE:GREGORIAN
PRODID:-//Diputació de Barcelona//DibaCMS//EN
BEGIN:VEVENT
UID:2795
DTSTAMP:20260423T134928
DTSTART:20150418T000000
DTEND:20150418T000000
SUMMARY:Aplec Independentista a Vic
LOCATION:
METHOD:PUBLISH
X-WR-CALNAME:calldetenes@calldetenes.cat
X-WR-TIMEZONE:Europe/Madrid
DESCRIPTION: Dissabte 18 d’abril a les 18h        
URI:https://www.calldetenes.cat/lactualitat/agenda/aplec-independentista-a-vic.html
CLASS:PUBLIC
END:VEVENT
END:VCALENDAR
