BEGIN:VCALENDAR
VERSION:2.0
CALSCALE:GREGORIAN
PRODID:-//Diputació de Barcelona//DibaCMS//EN
BEGIN:VEVENT
UID:2794
DTSTAMP:20260423T092334
DTSTART:20150422T000000
DTEND:20150422T000000
SUMMARY:Presentació del centre cultural polivalent de les Adoberies
LOCATION:
METHOD:PUBLISH
X-WR-CALNAME:calldetenes@calldetenes.cat
X-WR-TIMEZONE:Europe/Madrid
DESCRIPTION: Presentació del centre cultural polivalent de les Adoberies  Presentació del projecte i de les tres propostes d’edifici. Volem conèixer la vostra opinió!  Dimecres 22 d’abril a les 9 del vespre – vestíbul de l’Ajuntament de Calldetenes    
URI:https://www.calldetenes.cat/lactualitat/agenda/presentacio-del-centre-cultural-polivalent-de-les-adoberies.html
CLASS:PUBLIC
END:VEVENT
END:VCALENDAR
