BEGIN:VCALENDAR
VERSION:2.0
CALSCALE:GREGORIAN
PRODID:-//Diputació de Barcelona//DibaCMS//EN
BEGIN:VEVENT
UID:2793
DTSTAMP:20260423T121748
DTSTART:20150416T000000
DTEND:20150416T000000
SUMMARY:Xerrada amb Indira Ranamagar
LOCATION:
METHOD:PUBLISH
X-WR-CALNAME:calldetenes@calldetenes.cat
X-WR-TIMEZONE:Europe/Madrid
DESCRIPTION: Xerrada amb Indira Ranamagar, fundadora de Prisoners Assistance Nepal  “Projectes d’escolarització i acollida a nenes i nens de les presons del Nepal”  Dijous 16 d’abril a les 9 del vespre – vestíbul de l’Ajuntament de Calldetenes  Organitza: Kaliu Nepal  
URI:https://www.calldetenes.cat/lactualitat/agenda/xerrada-amb-indira-ranamagar.html
CLASS:PUBLIC
END:VEVENT
END:VCALENDAR
