BEGIN:VCALENDAR
VERSION:2.0
CALSCALE:GREGORIAN
PRODID:-//Diputació de Barcelona//DibaCMS//EN
BEGIN:VEVENT
UID:2792
DTSTAMP:20260423T140923
DTSTART:20150423T000000
DTEND:20150423T000000
SUMMARY:Acte de lliurament de la 3a Beca Riudeperes. Presentació del projecte guanyador de la 2a edició
LOCATION:
METHOD:PUBLISH
X-WR-CALNAME:calldetenes@calldetenes.cat
X-WR-TIMEZONE:Europe/Madrid
DESCRIPTION: Acte de lliurament de la 3a Beca Riudeperes i presentació del projecte guanyador de la 2a edició: “Els Altarriba. De Sant Martí de Riudeperes a la Cerdanya” a càrrec de la Sra. Elisenda Collelldemont  23 d’abril a les 8 del vespre, vestíbul de l’ajuntament de Calldetenes      
URI:https://www.calldetenes.cat/lactualitat/agenda/acte-de-lliurament-de-la-3a-beca-riudeperes-presentacio-del-projecte-guanyador-de-la-2a-edicio.html
CLASS:PUBLIC
END:VEVENT
END:VCALENDAR
