BEGIN:VCALENDAR
VERSION:2.0
CALSCALE:GREGORIAN
PRODID:-//Diputació de Barcelona//DibaCMS//EN
BEGIN:VEVENT
UID:2791
DTSTAMP:20260423T153535
DTSTART:20150418T000000
DTEND:20150418T000000
SUMMARY:Presentació dels llibres guanyadors dels 35è Premis Literaris de Calldetenes
LOCATION:
METHOD:PUBLISH
X-WR-CALNAME:calldetenes@calldetenes.cat
X-WR-TIMEZONE:Europe/Madrid
DESCRIPTION:   18 d’abril a les 8 del vespre, vestíbul de l’ajuntament de Calldetenes      
URI:https://www.calldetenes.cat/lactualitat/agenda/2791-presentacio-dels-llibres-guanyadors-dels-35e-premis-literaris-de-calldetenes.html
CLASS:PUBLIC
END:VEVENT
END:VCALENDAR
