BEGIN:VCALENDAR
VERSION:2.0
CALSCALE:GREGORIAN
PRODID:-//Diputació de Barcelona//DibaCMS//EN
BEGIN:VEVENT
UID:2790
DTSTAMP:20260423T151623
DTSTART:20150412T000000
DTEND:20150412T000000
SUMMARY:22a BTT PA I TRAGO
LOCATION:
METHOD:PUBLISH
X-WR-CALNAME:calldetenes@calldetenes.cat
X-WR-TIMEZONE:Europe/Madrid
DESCRIPTION: 22a BTT PA I TRAGO  Diumenge 12 d’abril de 2015     Organitza: Club Excursionista Calldetenes i Joves Alternatius de Calldetenes     Sortida des del nou Institut de Calldetenes (zona de bici trial) a les 9 del matí per fer el recorregut de 40km i a les 10 per fer el de 10km.    El recorregut estarà marcat amb fletxes, cinta de plàstic i calç.  La pedalada de 10 km serà fàcil, per a totes les edats.    Inscripcions a partir d’una hora abans.  Preu: 10€ (8€ socis CEC i anticipades)  Les anticipades es podran formalitzar enviant un correu a correu@cecalldetenes.cat i fent l’ingrés amb els noms i cognoms al següent número de compte de La Caixa (IBAN: ES75 2100 3952 1002 0002 1068 - BIC: CAIXESBB) o a la botiga XTremBike de Calldetenes fins al mateix dissabte 11 d’abril.    L’organització exigirà que els participants disposin de la llicència esportiva pertinent.  Al mateix dia s’expediran llicències temporals per a la pedalada amb un recàrrec de 5€.    Avituallaments, esmorzar i record per a tots els participants.    Els menors de 14 anys hauran d’anar acompanyats d’un adult.    És obligatori l’ús del casc.    
URI:https://www.calldetenes.cat/lactualitat/agenda/22a-btt-pa-i-trago.html
CLASS:PUBLIC
END:VEVENT
END:VCALENDAR
