BEGIN:VCALENDAR
VERSION:2.0
CALSCALE:GREGORIAN
PRODID:-//Diputació de Barcelona//DibaCMS//EN
BEGIN:VEVENT
UID:2789
DTSTAMP:20260423T105255
DTSTART:20150413T000000
DTEND:20150619T000000
SUMMARY:Tallers Alquímia Calldetenes Primavera 2015
LOCATION:
METHOD:PUBLISH
X-WR-CALNAME:calldetenes@calldetenes.cat
X-WR-TIMEZONE:Europe/Madrid
DESCRIPTION: Tallers Alquímia de Primavera: del 13 d’abril al 19 de juny (inscripcions fins 10 d’abril)  
URI:https://www.calldetenes.cat/lactualitat/agenda/tallers-alquimia-calldetenes-primavera-2015.html
CLASS:PUBLIC
END:VEVENT
END:VCALENDAR
