BEGIN:VCALENDAR
VERSION:2.0
CALSCALE:GREGORIAN
PRODID:-//Diputació de Barcelona//DibaCMS//EN
BEGIN:VEVENT
UID:2788
DTSTAMP:20260423T164548
DTSTART:20150501T000000
DTEND:20150501T000000
SUMMARY:Anul·lada: 3a Calldetenes Race
LOCATION:
METHOD:PUBLISH
X-WR-CALNAME:calldetenes@calldetenes.cat
X-WR-TIMEZONE:Europe/Madrid
DESCRIPTION: 
URI:https://www.calldetenes.cat/lactualitat/agenda/anullada-3a-calldetenes-race.html
CLASS:PUBLIC
END:VEVENT
END:VCALENDAR
