BEGIN:VCALENDAR
VERSION:2.0
CALSCALE:GREGORIAN
PRODID:-//Diputació de Barcelona//DibaCMS//EN
BEGIN:VEVENT
UID:2787
DTSTAMP:20260423T123600
DTSTART:20150404T000000
DTEND:20150406T000000
SUMMARY:Cantades de caramelles a Calldetenes
LOCATION:
METHOD:PUBLISH
X-WR-CALNAME:calldetenes@calldetenes.cat
X-WR-TIMEZONE:Europe/Madrid
DESCRIPTION: Els propers dies 4,5 i 6 d'abril tornaran a sortir al carrer les cançons i danses dels caramellaires. Aquest any, amb el suport de 3 monitors, integren el grup de Caramelles de Calldetenes un total de 25 nens i nenes.  El dissabte 4 d'abril al vespre, després de la Vetlla Pasqual, es farà cantada i a la sortida ball de bastons i cintes.    El diumenge 5, recorregut de les caramelles pels carrers del poble i cantada a la sortida de l'ofici.    El dilluns 6 hi ha prevista la cantada a les cases de pagès i a Sant Marc.  
URI:https://www.calldetenes.cat/lactualitat/agenda/cantades-de-caramelles-a-calldetenes.html
CLASS:PUBLIC
END:VEVENT
END:VCALENDAR
