BEGIN:VCALENDAR
VERSION:2.0
CALSCALE:GREGORIAN
PRODID:-//Diputació de Barcelona//DibaCMS//EN
BEGIN:VEVENT
UID:2786
DTSTAMP:20260423T141251
DTSTART:20150419T190000
DTEND:20150419T000000
SUMMARY:"M.A.R.I.L.U.L.A." Obra finalista del Premi BBVA de Teatre 2015
LOCATION:
METHOD:PUBLISH
X-WR-CALNAME:calldetenes@calldetenes.cat
X-WR-TIMEZONE:Europe/Madrid
DESCRIPTION: “M.A.R.I.L.U.L.A.” Obra finalista del Premi BBVA de Teatre 2015    De Lula Produccions    Diumenge 19 d’abril a les 19 h a l’Auditori Teatre de Calldetenes    Organitza: Fundació Antigues Caixes Catalanes, BBVA i Auditori Teatre de Calldetenes    Més informació i entrades: www.teatrecalldetenes.cat
URI:https://www.calldetenes.cat/lactualitat/agenda/marilula-obra-finalista-del-premi-bbva-de-teatre-2015.html
CLASS:PUBLIC
END:VEVENT
END:VCALENDAR
