BEGIN:VCALENDAR
VERSION:2.0
CALSCALE:GREGORIAN
PRODID:-//Diputació de Barcelona//DibaCMS//EN
BEGIN:VEVENT
UID:2785
DTSTAMP:20260423T151454
DTSTART:20150409T000000
DTEND:20150416T000000
SUMMARY:Taller "El vincle: El desenvolupament de l'emoció"
LOCATION:
METHOD:PUBLISH
X-WR-CALNAME:calldetenes@calldetenes.cat
X-WR-TIMEZONE:Europe/Madrid
DESCRIPTION: Taller “El vincle: El desenvolupament de l’emoció” a càrrec de Mar Vidal, psicòloga infantil i juvenil  Projecte “Kit de respostes per a pares i mares amb fills dels 0 a 3 anys. Qui ha dit que fer de pare o de mare és fàcil?”  Lloc: Escola Bressol l’Esquitx  Dates: 9 i 16 d’abril de 2015  Horari: 17.30 a 19.00h  Taller adreçat a pares i mares amb infants de 12 mesos a 3 anys  Inscripcions a l’Ajuntament de Calldetenes (93 886 31 05)  Organitza: municipis del Consorci d’Osona de Serveis Socials en col·laboració amb el Consell Comarcal d’Osona    Continguts relacionats:  Calldetenes i el Consorci d’Osona de Serveis Socials posen en marxa un “Kit de respostes per a pares i mares”  
URI:https://www.calldetenes.cat/lactualitat/agenda/taller-el-vincle-el-desenvolupament-de-lemocio.html
CLASS:PUBLIC
END:VEVENT
END:VCALENDAR
