BEGIN:VCALENDAR
VERSION:2.0
CALSCALE:GREGORIAN
PRODID:-//Diputació de Barcelona//DibaCMS//EN
BEGIN:VEVENT
UID:2783
DTSTAMP:20260423T105329
DTSTART:20150411T000000
DTEND:20150620T000000
SUMMARY:Calendari de conferències de primavera Grup C3
LOCATION:
METHOD:PUBLISH
X-WR-CALNAME:calldetenes@calldetenes.cat
X-WR-TIMEZONE:Europe/Madrid
DESCRIPTION: 
URI:https://www.calldetenes.cat/lactualitat/agenda/calendari-de-conferencies-de-primavera-grup-c3.html
CLASS:PUBLIC
END:VEVENT
END:VCALENDAR
