BEGIN:VCALENDAR
VERSION:2.0
CALSCALE:GREGORIAN
PRODID:-//Diputació de Barcelona//DibaCMS//EN
BEGIN:VEVENT
UID:2782
DTSTAMP:20260423T105444
DTSTART:20150322T190000
DTEND:20150322T000000
SUMMARY:Hora de monòlegs
LOCATION:
METHOD:PUBLISH
X-WR-CALNAME:calldetenes@calldetenes.cat
X-WR-TIMEZONE:Europe/Madrid
DESCRIPTION: 
URI:https://www.calldetenes.cat/lactualitat/agenda/hora-de-monolegs.html
CLASS:PUBLIC
END:VEVENT
END:VCALENDAR
