BEGIN:VCALENDAR
VERSION:2.0
CALSCALE:GREGORIAN
PRODID:-//Diputació de Barcelona//DibaCMS//EN
BEGIN:VEVENT
UID:2781
DTSTAMP:20260423T033435
DTSTART:20150429T000000
DTEND:20150429T000000
SUMMARY:Jornada de portes obertes Escola Bressol l'Esquitx
LOCATION:
METHOD:PUBLISH
X-WR-CALNAME:calldetenes@calldetenes.cat
X-WR-TIMEZONE:Europe/Madrid
DESCRIPTION: 29 d’abril de 2015: Jornada de portes obertes Escola Bressol l’Esquitx  Hola famílies!  A l’escola bressol municipal l’Esquitx, de Calldetenes, podreu gaudir de la jornada de portes obertes el proper dijous dia 29 d’abril de 2015. L’escola estarà oberta a tothom des de les 17.15h fins les 19.00h, espai de temps on les educadores us guiaran i informaran de tots els dubtes que pugueu tenir.      Del 4 al 15 de maig de 2015: Preinscripcions curs 2015-16 Escola Bressol l’Esquitx  De 15.00h a 16.30h a les instal·lacions de la llar d’infants.  Documentació que cal presentar:  · Imprès de preinscripció emplenat i signat.  · Original i fotocòpia del llibre de família.  · Original i fotocòpia del DNI de la persona sol•licitant (pare, mare o tutor/a legal).  · Original i fotocòpia de la targeta sanitària individual de l’alumne/a.  · Acreditar els aspectes que el sol•licitant indiqui a efectes de barem.  Veure en el document adjunt els criteris de barem i el tríptic informatiu.      Del 8 al 12 de juny de 2015: Matriculació curs 2015-16 Escola Bressol l’Esquitx  De 15.00h a 16.30h a les instal·lacions de la llar d’infants.    
URI:https://www.calldetenes.cat/lactualitat/agenda/jornada-de-portes-obertes-escola-bressol-lesquitx.html
CLASS:PUBLIC
END:VEVENT
END:VCALENDAR
