BEGIN:VCALENDAR
VERSION:2.0
CALSCALE:GREGORIAN
PRODID:-//Diputació de Barcelona//DibaCMS//EN
BEGIN:VEVENT
UID:2780
DTSTAMP:20260423T074603
DTSTART:20150310T000000
DTEND:20150317T000000
SUMMARY:Del 10 al 17 de març: preinscripcions a l’institut i a l’escola
LOCATION:
METHOD:PUBLISH
X-WR-CALNAME:calldetenes@calldetenes.cat
X-WR-TIMEZONE:Europe/Madrid
DESCRIPTION: Veure informació relativa a la preinscripció a la Secció d'Institut de Calldetenes en el document adjunt
URI:https://www.calldetenes.cat/lactualitat/agenda/del-10-al-17-de-marc-preinscripcions-a-linstitut-i-a-lescola.html
CLASS:PUBLIC
END:VEVENT
END:VCALENDAR
