BEGIN:VCALENDAR
VERSION:2.0
CALSCALE:GREGORIAN
PRODID:-//Diputació de Barcelona//DibaCMS//EN
BEGIN:VEVENT
UID:2779
DTSTAMP:20260423T141041
DTSTART:20150222T000000
DTEND:20150222T000000
SUMMARY:Cor de l'Orfeó Lleidatà i l'actor Jaume Jovells: "En català, si us plau". Director Pedro Pardo
LOCATION:
METHOD:PUBLISH
X-WR-CALNAME:calldetenes@calldetenes.cat
X-WR-TIMEZONE:Europe/Madrid
DESCRIPTION: 
URI:https://www.calldetenes.cat/lactualitat/agenda/cor-de-lorfeo-lleidata-i-lactor-jaume-jovells-en-catala-si-us-plau-director-pedro-pardo.html
CLASS:PUBLIC
END:VEVENT
END:VCALENDAR
