BEGIN:VCALENDAR
VERSION:2.0
CALSCALE:GREGORIAN
PRODID:-//Diputació de Barcelona//DibaCMS//EN
BEGIN:VEVENT
UID:2778
DTSTAMP:20260423T181404
DTSTART:20150207T000000
DTEND:20150207T000000
SUMMARY:Karkamal 2015
LOCATION:
METHOD:PUBLISH
X-WR-CALNAME:calldetenes@calldetenes.cat
X-WR-TIMEZONE:Europe/Madrid
DESCRIPTION: 
URI:https://www.calldetenes.cat/lactualitat/agenda/karkamal-2015.html
CLASS:PUBLIC
END:VEVENT
END:VCALENDAR
